BEGIN:VCALENDAR
VERSION:2.0
PRODID:-//Lifeway Baptist Church - ECPv6.6.4.2//NONSGML v1.0//EN
CALSCALE:GREGORIAN
METHOD:PUBLISH
X-WR-CALNAME:Lifeway Baptist Church
X-ORIGINAL-URL:https://lifewaycuero.tv
X-WR-CALDESC:Events for Lifeway Baptist Church
REFRESH-INTERVAL;VALUE=DURATION:PT1H
X-Robots-Tag:noindex
X-PUBLISHED-TTL:PT1H
BEGIN:VTIMEZONE
TZID:America/Chicago
BEGIN:DAYLIGHT
TZOFFSETFROM:-0600
TZOFFSETTO:-0500
TZNAME:CDT
DTSTART:20220313T080000
END:DAYLIGHT
BEGIN:STANDARD
TZOFFSETFROM:-0500
TZOFFSETTO:-0600
TZNAME:CST
DTSTART:20221106T070000
END:STANDARD
BEGIN:DAYLIGHT
TZOFFSETFROM:-0600
TZOFFSETTO:-0500
TZNAME:CDT
DTSTART:20230312T080000
END:DAYLIGHT
BEGIN:STANDARD
TZOFFSETFROM:-0500
TZOFFSETTO:-0600
TZNAME:CST
DTSTART:20231105T070000
END:STANDARD
BEGIN:DAYLIGHT
TZOFFSETFROM:-0600
TZOFFSETTO:-0500
TZNAME:CDT
DTSTART:20240310T080000
END:DAYLIGHT
BEGIN:STANDARD
TZOFFSETFROM:-0500
TZOFFSETTO:-0600
TZNAME:CST
DTSTART:20241103T070000
END:STANDARD
END:VTIMEZONE
BEGIN:VEVENT
DTSTART;TZID=America/Chicago:20240602T100000
DTEND;TZID=America/Chicago:20240602T110000
DTSTAMP:20260423T080318
CREATED:20240530T161109Z
LAST-MODIFIED:20240530T161109Z
UID:10678-1717322400-1717326000@lifewaycuero.tv
SUMMARY:Soda Sunday
DESCRIPTION:Join us as we kick off our Summer with Lifeway with Soda Sunday\, on June 2nd. Enjoy your favorite cold and refreshing soda.
URL:https://lifewaycuero.tv/event/soda-sunday/
CATEGORIES:Churchwide
ATTACH;FMTTYPE=image/png:https://lifewaycuero.tv/wp-content/uploads/2024/05/Soda-Sunday-2024-Wide.png
END:VEVENT
BEGIN:VEVENT
DTSTART;TZID=America/Chicago:20240526T100000
DTEND;TZID=America/Chicago:20240526T110000
DTSTAMP:20260423T080318
CREATED:20240509T031034Z
LAST-MODIFIED:20240509T032539Z
UID:10660-1716717600-1716721200@lifewaycuero.tv
SUMMARY:Baptism
DESCRIPTION:Are you ready to make a public declaration of your faith? Register here and a pastor will contact you to chat more about your decision. \n  \nRegister
URL:https://lifewaycuero.tv/event/10660/
CATEGORIES:Churchwide
ATTACH;FMTTYPE=image/png:https://lifewaycuero.tv/wp-content/uploads/2024/05/Baptism_5-26-2024.png
END:VEVENT
BEGIN:VEVENT
DTSTART;TZID=America/Chicago:20240526T090000
DTEND;TZID=America/Chicago:20240526T120000
DTSTAMP:20260423T080318
CREATED:20240508T034904Z
LAST-MODIFIED:20240508T034904Z
UID:10658-1716714000-1716724800@lifewaycuero.tv
SUMMARY:101: Discovering Membership
DESCRIPTION:If God is calling you to make Lifeway your home\, then your next step is attending 101. In 101\, you will learn more about the mission and vision of Lifeway from Pastor Glen or Pastor Kyle and have the opportunity to become a member of the Lifeway family. Whether you are new in your faith or have been following Christ for along time\, we want you to be where God wants you. \nThis class will begin at 9 am. Childcare is available for children up to 5th grade. Donuts and Coffee will be available for breakfast. \nRegister
URL:https://lifewaycuero.tv/event/101-discovering-membership-2/
CATEGORIES:Membership
ATTACH;FMTTYPE=image/png:https://lifewaycuero.tv/wp-content/uploads/2024/05/101-5-26-24.png
END:VEVENT
BEGIN:VEVENT
DTSTART;TZID=America/Chicago:20240519T103000
DTEND;TZID=America/Chicago:20240519T110000
DTSTAMP:20260423T080318
CREATED:20240502T035814Z
LAST-MODIFIED:20240502T035814Z
UID:10653-1716114600-1716116400@lifewaycuero.tv
SUMMARY:Graduation Sunday
DESCRIPTION:Join us on May 19th to honor and celebrate Lifeway student graduates during our 10:30 AM service. If you have a high school or college student graduating this year or who graduated in December\, please contact Kati Klores at kati@lifewaycuero.tv so we can honor them on Graduation Sunday! \nParents of Lifeway seniors may send 5 photos of their graduate\, ranging from birth to senior year\, and a brief summary of their future plans to Linda Johnson at linda@lifewaycuero.tv or Greg Johnson at greg@lifewaycuero.tv. Linda or Greg will reach out to you with additional details. \nFor Lifeway college graduates\, please let us know the degree you earned and major.
URL:https://lifewaycuero.tv/event/graduation-sunday/
CATEGORIES:Churchwide
ATTACH;FMTTYPE=image/png:https://lifewaycuero.tv/wp-content/uploads/2024/05/GraduationSunday_202405.png
END:VEVENT
BEGIN:VEVENT
DTSTART;TZID=America/Chicago:20240512T103000
DTEND;TZID=America/Chicago:20240512T113000
DTSTAMP:20260423T080318
CREATED:20240502T040515Z
LAST-MODIFIED:20240502T040515Z
UID:10655-1715509800-1715513400@lifewaycuero.tv
SUMMARY:Baby Dedication
DESCRIPTION:Have you had a baby recently or just joined us at Lifeway and want to dedicate your child to the Lord? Register today. \nMay 12th @ 10:30 am \nRegistration Closes May 6th \nRegister
URL:https://lifewaycuero.tv/event/baby-dedication-2/
CATEGORIES:Churchwide
ATTACH;FMTTYPE=image/jpeg:https://lifewaycuero.tv/wp-content/uploads/2021/09/bbdapp1920x10180.jpg
END:VEVENT
BEGIN:VEVENT
DTSTART;TZID=America/Chicago:20240512T093000
DTEND;TZID=America/Chicago:20240512T113000
DTSTAMP:20260423T080318
CREATED:20240502T035508Z
LAST-MODIFIED:20240502T035508Z
UID:10651-1715506200-1715513400@lifewaycuero.tv
SUMMARY:Celebrating Moms at Lifeway
DESCRIPTION:Join us for worship on Sunday\, May 12\, as we honor mothers! You’ll have an opportunity to create memories at our photo op area located in the lobby. \nThis Mother’s Day we’ll celebrate and pray for our mothers. Invite your mom\, or a mom friend to worship with you this Mother’s Day!
URL:https://lifewaycuero.tv/event/celebrating-moms-at-lifeway/
CATEGORIES:Churchwide
ATTACH;FMTTYPE=image/png:https://lifewaycuero.tv/wp-content/uploads/2024/05/Celebrate_Mothers7.png
END:VEVENT
BEGIN:VEVENT
DTSTART;TZID=America/Chicago:20240421T090000
DTEND;TZID=America/Chicago:20240421T120000
DTSTAMP:20260423T080318
CREATED:20240206T024235Z
LAST-MODIFIED:20240303T110235Z
UID:10640-1713690000-1713700800@lifewaycuero.tv
SUMMARY:101: Discovering Membership
DESCRIPTION:If God is calling you to make Lifeway your home\, then your next step is attending 101. In 101\, you will learn more about the mission and vision of Lifeway from Pastor Glen or Pastor Kyle and have the opportunity to become a member of the Lifeway family. Whether you are new in your faith or have been following Christ for along time\, we want you to be where God wants you. \nThis class will begin at 9 am. Childcare is available for children up to 5th grade. Donuts and Coffee will be available for breakfast. \nRegister
URL:https://lifewaycuero.tv/event/101-discovering-membership/
CATEGORIES:Membership
ATTACH;FMTTYPE=image/png:https://lifewaycuero.tv/wp-content/uploads/2024/02/101-2-18-24.png
END:VEVENT
BEGIN:VEVENT
DTSTART;TZID=America/Chicago:20240407T113000
DTEND;TZID=America/Chicago:20240407T123000
DTSTAMP:20260423T080318
CREATED:20240303T110157Z
LAST-MODIFIED:20240303T110157Z
UID:10645-1712489400-1712493000@lifewaycuero.tv
SUMMARY:Brunch Fundraiser
DESCRIPTION:Purchase a pancake brunch plate to support our youth students. You can take it to go or eat it at church! We will be serving hot pancakes\, sausage and orange juice.
URL:https://lifewaycuero.tv/event/brunch-fundraiser/
ATTACH;FMTTYPE=image/png:https://lifewaycuero.tv/wp-content/uploads/2024/03/brunch-fundraiser.png
END:VEVENT
BEGIN:VEVENT
DTSTART;TZID=America/Chicago:20240331T103000
DTEND;TZID=America/Chicago:20240331T113000
DTSTAMP:20260423T080318
CREATED:20240303T110521Z
LAST-MODIFIED:20240303T110521Z
UID:10647-1711881000-1711884600@lifewaycuero.tv
SUMMARY:Easter In Cuero
DESCRIPTION:Join us for Easter in Cuero – our community service at Cuero Park. We will have an Easter Egg Hunt at 10 am. We have plenty of opportunities to serve during this service\, whether it be parking\, greeting\, helping in Children’s ministry\, hiding eggs\, setting up\, serving donuts\, or tearing down. This event will be great to share the gospel with the people of Cuero and beyond. \nGo to easterincuero.com for more info and share the link with your family and friends.
URL:https://lifewaycuero.tv/event/easter-in-cuero/
ATTACH;FMTTYPE=image/png:https://lifewaycuero.tv/wp-content/uploads/2024/03/social_wide.png
END:VEVENT
BEGIN:VEVENT
DTSTART;TZID=America/Chicago:20240324T113000
DTEND;TZID=America/Chicago:20240324T130000
DTSTAMP:20260423T080318
CREATED:20240118T051806Z
LAST-MODIFIED:20240303T105801Z
UID:10626-1711279800-1711285200@lifewaycuero.tv
SUMMARY:Fellowship Sunday
DESCRIPTION:This Fellowship Sunday\, the church will provide Nachos – including chips\, meat\, and cheese. If you can bring fixings\, queso\, sides\, or a dessert\, that would be great. Please email kati@lifewaycuero.tv if you’re able to help!
URL:https://lifewaycuero.tv/event/fellowship-sunday-3/
CATEGORIES:Churchwide
ATTACH;FMTTYPE=image/jpeg:https://lifewaycuero.tv/wp-content/uploads/2019/09/FellowshipSunday_Website_Event.jpg
END:VEVENT
BEGIN:VEVENT
DTSTART;TZID=America/Chicago:20240324T103000
DTEND;TZID=America/Chicago:20240324T113000
DTSTAMP:20260423T080318
CREATED:20220108T160050Z
LAST-MODIFIED:20240303T105903Z
UID:10163-1711276200-1711279800@lifewaycuero.tv
SUMMARY:Baptism
DESCRIPTION:Are you ready to make a public declaration of your faith? Register here and a pastor will contact you to chat more about your decision. \n  \nRegister
URL:https://lifewaycuero.tv/event/baptism-3/
ATTACH;FMTTYPE=image/jpeg:https://lifewaycuero.tv/wp-content/uploads/2021/09/bap.jpeg
END:VEVENT
BEGIN:VEVENT
DTSTART;TZID=America/Chicago:20240303T100000
DTEND;TZID=America/Chicago:20240303T120000
DTSTAMP:20260423T080318
CREATED:20220908T155419Z
LAST-MODIFIED:20240221T045348Z
UID:10406-1709460000-1709467200@lifewaycuero.tv
SUMMARY:201: Discovering Spiritual Maturity
DESCRIPTION:We encourage every member of Lifeway to take the next step by attending 201. In 201\, our goal is to help you continue to grow in your walk with the Lord. We will help you do this by equipping you with this knowledge – \nHow to spend time with God by studying your bible\nHow to pray\, and develop a prayer life\nHow to become a cheerful giver\nHow to live out your faith in a community of Christians \nSign Up and Discover Spiritual Maturity. \nRegister
URL:https://lifewaycuero.tv/event/201-discovering-spiritual-maturity-3/
ATTACH;FMTTYPE=image/jpeg:https://lifewaycuero.tv/wp-content/uploads/2022/09/201_app-wide.jpg
END:VEVENT
BEGIN:VEVENT
DTSTART;TZID=America/Chicago:20240224T080000
DTEND;TZID=America/Chicago:20240224T120000
DTSTAMP:20260423T080318
CREATED:20240122T044631Z
LAST-MODIFIED:20240221T044805Z
UID:10629-1708761600-1708776000@lifewaycuero.tv
SUMMARY:3rd Annual Lace-up for Lifeway
DESCRIPTION:Join us for our 3rd Annual Lace-up for Lifeway 5K and Half Marathon.  All funds raised benefit Lifeway Baptist School!\n\nOur mission is to allow our community to place their children in a Christian-oriented\, curriculum-centered school. In each activity\, we provide a Christian foundation and offer an opportunity for individual\, spiritual\, physical\, mental\, and social development.
URL:https://lifewaycuero.tv/event/3rd-annual-lace-up-for-lifeway/
CATEGORIES:Lifeway Baptist School
ATTACH;FMTTYPE=image/png:https://lifewaycuero.tv/wp-content/uploads/2024/01/Lace-Up-Lifeway-Wide.png
END:VEVENT
BEGIN:VEVENT
DTSTART;TZID=America/Chicago:20240214T180000
DTEND;TZID=America/Chicago:20240214T210000
DTSTAMP:20260423T080318
CREATED:20240112T164431Z
LAST-MODIFIED:20240112T165500Z
UID:10622-1707933600-1707944400@lifewaycuero.tv
SUMMARY:Valentines Date Night
DESCRIPTION:Enjoy an evening out with your Valentine! Childcare will be provided! Please register so that we know how much pizza to order. If you want your child to have pizza at the church\, it is $5/child. Childcare runs from 6-9pm. \nRegister
URL:https://lifewaycuero.tv/event/valentines-date-night-2/
CATEGORIES:Marriedpeople
ATTACH;FMTTYPE=image/png:https://lifewaycuero.tv/wp-content/uploads/2024/01/medium_image-1704830887508.png
END:VEVENT
BEGIN:VEVENT
DTSTART;TZID=America/Chicago:20240211T170000
DTEND;TZID=America/Chicago:20240211T220000
DTSTAMP:20260423T080318
CREATED:20240121T151053Z
LAST-MODIFIED:20240121T151053Z
UID:10634-1707670800-1707688800@lifewaycuero.tv
SUMMARY:SUPERBOWL FELLOWSHIP
DESCRIPTION:Lifeway Women’s Ministry is hosting a Superbowl Fellowship at the church to watch the big game! Please bring your favorite tailgate/gameday food to share! The church will provide sodas\, tea\, and water. We will be watching the game on the big screen in the auditorium. Bring a friend!
URL:https://lifewaycuero.tv/event/superbowl-fellowship/
CATEGORIES:Churchwide
ATTACH;FMTTYPE=image/png:https://lifewaycuero.tv/wp-content/uploads/2024/01/Superbowl-Sunday.png
END:VEVENT
BEGIN:VEVENT
DTSTART;TZID=America/Chicago:20240204T113000
DTEND;TZID=America/Chicago:20240204T123000
DTSTAMP:20260423T080318
CREATED:20240122T051021Z
LAST-MODIFIED:20240122T051021Z
UID:10636-1707046200-1707049800@lifewaycuero.tv
SUMMARY:Children's Ministry Meeting & Training
DESCRIPTION:If you currently serve in Children’s Ministry\, or are interested in serving\, please plan to attend this meeting after 2nd service. Lunch will be provided. Please register in the app under Children’s Ministry. \nRegister
URL:https://lifewaycuero.tv/event/childrens-ministry-meeting-training/
CATEGORIES:LifeKidz
ATTACH;FMTTYPE=image/png:https://lifewaycuero.tv/wp-content/uploads/2024/01/LifeKidz-Volunteer-Meeting-Training.png
END:VEVENT
BEGIN:VEVENT
DTSTART;TZID=America/Chicago:20240128T100000
DTEND;TZID=America/Chicago:20240128T113000
DTSTAMP:20260423T080318
CREATED:20240112T170302Z
LAST-MODIFIED:20240112T170302Z
UID:10624-1706436000-1706441400@lifewaycuero.tv
SUMMARY:Deacon Ordination
DESCRIPTION:We invite you to this special service as we ordain our Deacon Candidates. In this service\, you will hear from the Deacons\, you’ll see how they are challenged to follow the Lord\, and you will be challenged to be a Church that cooperates and encourages her Deacons. This Sunday we will have one service at 10am\, so that our church family can be together and celebrate this important event. This Sunday will also be our Fellowship Sunday\, which will include the Lord’s Supper and a meal afterwards.
URL:https://lifewaycuero.tv/event/deacon-ordination/
CATEGORIES:Churchwide
ATTACH;FMTTYPE=image/png:https://lifewaycuero.tv/wp-content/uploads/2024/01/Deacon-Ordination.png
END:VEVENT
BEGIN:VEVENT
DTSTART;TZID=America/Chicago:20240121T090000
DTEND;TZID=America/Chicago:20240121T120000
DTSTAMP:20260423T080318
CREATED:20220108T152656Z
LAST-MODIFIED:20240112T171106Z
UID:10272-1705827600-1705838400@lifewaycuero.tv
SUMMARY:101 - Membership Class
DESCRIPTION:If God is calling you to make Lifeway your home\, then your next step is attending 101. In 101 you will learn more about the mission and vision of Lifeway\, from Pastor Glen or Kyle\, and have the opportunity to become a member of the Lifeway family. Whether you are new in your faith or have been following Christ your entire life we want you to be where God wants you. \nThis class will begin at 9 am. Childcare is available for children up to 5th grade. Donuts and Coffee will be available for breakfast. \nRegister
URL:https://lifewaycuero.tv/event/101-membership-class-7/
CATEGORIES:Membership
ATTACH;FMTTYPE=image/jpeg:https://lifewaycuero.tv/wp-content/uploads/2022/01/101_App-Wide.jpg
END:VEVENT
BEGIN:VEVENT
DTSTART;TZID=America/Chicago:20231221T180000
DTEND;TZID=America/Chicago:20231221T203000
DTSTAMP:20260423T080318
CREATED:20211008T173353Z
LAST-MODIFIED:20231119T053051Z
UID:10218-1703181600-1703190600@lifewaycuero.tv
SUMMARY:Ladies Christmas Canvas Painting
DESCRIPTION:Join us for a fun evening of painting\, fellowship\, Christmas music\, and fun! Childcare is available. Bring a dish for the potluck. \nRegistration closes December 14th.\n6:00 – 8:30 pm \nChildcare for ages 6 wks – 5th grade\n$5 per child \nRegister
URL:https://lifewaycuero.tv/event/womens-christmas-canvas-painting-2/
CATEGORIES:Women's Ministry
ATTACH;FMTTYPE=image/png:https://lifewaycuero.tv/wp-content/uploads/2021/10/medium_image-1699803316579.png
END:VEVENT
BEGIN:VEVENT
DTSTART;TZID=America/Chicago:20231219T163000
DTEND;TZID=America/Chicago:20231219T183000
DTSTAMP:20260423T080318
CREATED:20231022T155633Z
LAST-MODIFIED:20231203T155837Z
UID:10599-1703003400-1703010600@lifewaycuero.tv
SUMMARY:LifeKidz Christmas Movie at The Grand
DESCRIPTION:We’re going to the movies at the Grand! We are going to watch the movie – The Star. This is available to children from kindergarten to 5th grade. We will meet at the church at 4:30 and travel over to Yoakum for the movie. The cost will cover the movie\, pizza\, popcorn\, and a drink. $10 per child. \n  \nRegister
URL:https://lifewaycuero.tv/event/lifekidz-christmas-movie-at-the-grand/
CATEGORIES:Women's Ministry
ATTACH;FMTTYPE=image/jpeg:https://lifewaycuero.tv/wp-content/uploads/2023/10/Christmas-Movie-scaled.jpg
END:VEVENT
BEGIN:VEVENT
DTSTART;TZID=America/Chicago:20231213T180000
DTEND;TZID=America/Chicago:20231213T193000
DTSTAMP:20260423T080318
CREATED:20231008T042816Z
LAST-MODIFIED:20231203T075006Z
UID:10593-1702490400-1702495800@lifewaycuero.tv
SUMMARY:LifeKidz Christmas Party
DESCRIPTION:We’re having a Christmas Party with loads of fun! Sign your child up today. There will be games\, pizza\, a movie and more. This is available to children in Kindergarten – 5th Grade.\nRegister by Monday Dec 11. \nRegister
URL:https://lifewaycuero.tv/event/lifekidz-christmas-party/
ATTACH;FMTTYPE=image/jpeg:https://lifewaycuero.tv/wp-content/uploads/2023/10/Christmas-Party_Screen-scaled.jpg
END:VEVENT
BEGIN:VEVENT
DTSTART;TZID=America/Chicago:20231021T180000
DTEND;TZID=America/Chicago:20231021T210000
DTSTAMP:20260423T080318
CREATED:20231008T043255Z
LAST-MODIFIED:20231008T043255Z
UID:10595-1697911200-1697922000@lifewaycuero.tv
SUMMARY:Married People Fall Formal
DESCRIPTION:It’s time to dress up\, dine out\, and dance the night away. Sign up today for Married People Fall Formal. A meal will be provided. Dinner and dance will begin at 6 pm\, and it will wrap up at 9 pm. $50 per couple. $10 per child – dinner included. \n  \nRegister
URL:https://lifewaycuero.tv/event/married-people-fall-formal/
ATTACH;FMTTYPE=image/png:https://lifewaycuero.tv/wp-content/uploads/2023/10/169-Fall-Formal.png
END:VEVENT
BEGIN:VEVENT
DTSTART;TZID=America/Chicago:20230819T100000
DTEND;TZID=America/Chicago:20230819T120000
DTSTAMP:20260423T080318
CREATED:20230725T194922Z
LAST-MODIFIED:20230725T194922Z
UID:10571-1692439200-1692446400@lifewaycuero.tv
SUMMARY:Prayer Board Party
DESCRIPTION:We will be creating prayer boards! Please bring your own board/journal to decorate. You can bring a dry erase board\, bulletin board\, binder\, or notebook. We will provide the craft supplies. This event is for ladies 12+. Childcare will be provided. \nRegister\n 
URL:https://lifewaycuero.tv/event/prayer-board-party/
LOCATION:Lifeway Church\, 403 E Sarah St\, Cuero\, TX\, 77954\, United States
ATTACH;FMTTYPE=image/png:https://lifewaycuero.tv/wp-content/uploads/2023/07/Prayer-Board-Party-16x9-1.png
ORGANIZER;CN="Kati Klores":MAILTO:kati@lifewaycuero.tv
END:VEVENT
BEGIN:VEVENT
DTSTART;TZID=America/Chicago:20230514T103000
DTEND;TZID=America/Chicago:20230514T113000
DTSTAMP:20260423T080318
CREATED:20210412T213118Z
LAST-MODIFIED:20230331T204132Z
UID:10048-1684060200-1684063800@lifewaycuero.tv
SUMMARY:Baby Dedication
DESCRIPTION:Whether parenthood is a new journey for you or one you’ve been on before – Lifeway would love to support you in prayer as a family! Register online to be part of baby dedication\, where we’ll pray and present a few meaningful gifts as you move forward in your journey of raising a new little one in our community! \n  \nREGISTER ONLINE
URL:https://lifewaycuero.tv/event/baby-dedication/
CATEGORIES:Churchwide
ATTACH;FMTTYPE=image/jpeg:https://lifewaycuero.tv/wp-content/uploads/2019/09/BabyDedication_Website_Event.jpg
END:VEVENT
BEGIN:VEVENT
DTSTART;TZID=America/Chicago:20230212T160000
DTEND;TZID=America/Chicago:20230212T200000
DTSTAMP:20260423T080318
CREATED:20220108T155642Z
LAST-MODIFIED:20230127T202244Z
UID:10274-1676217600-1676232000@lifewaycuero.tv
SUMMARY:Valentine's Date Night
DESCRIPTION:You and your spouse need time together\, without kids\, and without the stress of finding a babysitter. Lifeway is here to help. Sign-up for our Valentine’s Date Night and enjoy a kid-free evening. \nChildcare w/ dinner provided for ages 6wks – 5th grade |Per Child $10 \nRegister Before Feb 10 \nRegister Here
URL:https://lifewaycuero.tv/event/valentines-date-night/
ATTACH;FMTTYPE=image/jpeg:https://lifewaycuero.tv/wp-content/uploads/2022/01/datenite1920x1080.jpg
END:VEVENT
BEGIN:VEVENT
DTSTART;TZID=America/Chicago:20230205T140000
DTEND;TZID=America/Chicago:20230205T170000
DTSTAMP:20260423T080318
CREATED:20230127T202712Z
LAST-MODIFIED:20230127T202712Z
UID:10491-1675605600-1675616400@lifewaycuero.tv
SUMMARY:Galantines Gathering - Women's Ministry Kick-off
DESCRIPTION:We are launching a Women’s Ministry at Lifeway Baptist Church!\n\n\nOur kick-off event will be a “Galantine’s” afternoon. February 5th from 2 to 5 pm. It’s just for the gals 18 years and older. Registration is $20 and childcare is an additional $5/child. We are so excited for a fun afternoon and to share more about the Women’s Ministry.\n\n\nRegister Here
URL:https://lifewaycuero.tv/event/galantines-gathering-womens-ministry-kick-off/
CATEGORIES:Women's Ministry
ATTACH;FMTTYPE=image/png:https://lifewaycuero.tv/wp-content/uploads/2023/01/Galantines.png
END:VEVENT
BEGIN:VEVENT
DTSTART;TZID=America/Chicago:20221218T160000
DTEND;TZID=America/Chicago:20221218T200000
DTSTAMP:20260423T080318
CREATED:20211006T163541Z
LAST-MODIFIED:20221201T160335Z
UID:10209-1671379200-1671393600@lifewaycuero.tv
SUMMARY:MarriedPeople - Date Night
DESCRIPTION:It’s Christmas time\, and with that it means you may need some time to yourselves to finish up Christmas shopping. Sign up for Date Night and let Lifeway give you a kid free night. \nChildcare w/ dinner provided for ages 6wks – 5th grade \nRegistration closes December 14th at 11:30 pm \nRegister
URL:https://lifewaycuero.tv/event/marriedpeople-date-night-2/
LOCATION:Lifeway Church\, 403 E Sarah St\, Cuero\, TX\, 77954\, United States
CATEGORIES:Churchwide,Marriedpeople
ATTACH;FMTTYPE=image/jpeg:https://lifewaycuero.tv/wp-content/uploads/2021/10/Date-Night-April-8th-FB.jpg
END:VEVENT
BEGIN:VEVENT
DTSTART;TZID=America/Chicago:20221112T173000
DTEND;TZID=America/Chicago:20221112T193000
DTSTAMP:20260423T080318
CREATED:20210922T214149Z
LAST-MODIFIED:20221020T063843Z
UID:10188-1668274200-1668281400@lifewaycuero.tv
SUMMARY:Married People Event
DESCRIPTION:We invite you to our Married People Event\, where we focus on the 4 habits of a great marriage. \nHave Serious Fun – The best way to protect your marriage is to enjoy it. \nRespect and Love – Our spouse doesn’t bring out the worst in us—they reveal the brokenness in us. \nLove God First – Loving God in your individual life  impacts your married life. \nPractice Your Promise – Marriage is not about the big day but the every day. \nWe will have a great time and equip to grow deeper in your relationship with your spouse\, so that God can be honored. Sign up today online or on the App. Registration closes Nov. 9th \nRegister\n 
URL:https://lifewaycuero.tv/event/married-people/
ATTACH;FMTTYPE=image/png:https://lifewaycuero.tv/wp-content/uploads/2021/09/Slide2.png
END:VEVENT
BEGIN:VEVENT
DTSTART;TZID=America/Chicago:20220911T173000
DTEND;TZID=America/Chicago:20220911T190000
DTSTAMP:20260423T080318
CREATED:20220822T155422Z
LAST-MODIFIED:20220822T155422Z
UID:10397-1662917400-1662922800@lifewaycuero.tv
SUMMARY:Small Group Leader Training
DESCRIPTION:Small groups are an extremely important part of our church. We believe people find their purpose in small groups as they study God’s word together and connect to people. Once a person knows their purpose they can make a difference with their family\, friends\, and community. If God is leading you to participate in small groups as a leader\, please sign up for this 90 min training. Dinner and childcare provided. \nRegister Before September 7th \nRegister
URL:https://lifewaycuero.tv/event/small-group-leader-training/
ATTACH;FMTTYPE=image/jpeg:https://lifewaycuero.tv/wp-content/uploads/2022/08/SmallGroupTraining.jpg
END:VEVENT
BEGIN:VEVENT
DTSTART;TZID=America/Chicago:20220821T120000
DTEND;TZID=America/Chicago:20220821T133000
DTSTAMP:20260423T080318
CREATED:20210108T211207Z
LAST-MODIFIED:20220706T165711Z
UID:10166-1661083200-1661088600@lifewaycuero.tv
SUMMARY:201: Discovering Spiritual Maturity
DESCRIPTION:This class teaches the importance of commitment and community. You will learn the value of committing your time\, talent\, treasure to God. We also hope you see the value of community through small groups. We will divide our time into two sessions covering: Facts about Spiritual Maturity &  Discipleship\, and an overview of the four healthy habits of a disciple. \nHow to spend time with God and study your bible. \nHow to Pray \nThe importance of Giving \nThe value of Small Groups. \nRegister before  Aug. 17th \nRegister Here\nhttps://lifewaycuero.churchcenter.com/registrations/events/1213016
URL:https://lifewaycuero.tv/event/201-discovering-spiritual-maturity-2/
ATTACH;FMTTYPE=image/jpeg:https://lifewaycuero.tv/wp-content/uploads/2021/05/201_website.jpg
END:VEVENT
END:VCALENDAR