BEGIN:VCALENDAR
VERSION:2.0
PRODID:-//Lifeway Baptist Church - ECPv6.6.4.2//NONSGML v1.0//EN
CALSCALE:GREGORIAN
METHOD:PUBLISH
X-ORIGINAL-URL:https://lifewaycuero.tv
X-WR-CALDESC:Events for Lifeway Baptist Church
REFRESH-INTERVAL;VALUE=DURATION:PT1H
X-Robots-Tag:noindex
X-PUBLISHED-TTL:PT1H
BEGIN:VTIMEZONE
TZID:America/Chicago
BEGIN:DAYLIGHT
TZOFFSETFROM:-0600
TZOFFSETTO:-0500
TZNAME:CDT
DTSTART:20250309T080000
END:DAYLIGHT
BEGIN:STANDARD
TZOFFSETFROM:-0500
TZOFFSETTO:-0600
TZNAME:CST
DTSTART:20251102T070000
END:STANDARD
END:VTIMEZONE
BEGIN:VEVENT
DTSTART;TZID=America/Chicago:20250126T113000
DTEND;TZID=America/Chicago:20250126T123000
DTSTAMP:20260421T082757
CREATED:20250114T040022Z
LAST-MODIFIED:20250114T040022Z
UID:10827-1737891000-1737894600@lifewaycuero.tv
SUMMARY:Fellowship Sunday
DESCRIPTION:Please join us for Fellowship Sunday on January 26th\, after the second service. The church will be serving spaghetti with meat sauce and garlic bread. \nPlease bring your favorite sides or desserts.
URL:https://lifewaycuero.tv/event/fellowship-sunday-4/
LOCATION:TX
CATEGORIES:Churchwide
ATTACH;FMTTYPE=image/png:https://lifewaycuero.tv/wp-content/uploads/2025/01/2025-01-26_Fellowship_Sunday.png
END:VEVENT
END:VCALENDAR